BEGIN:VCALENDAR
VERSION:2.0
PRODID:-//Knox Presbyterian Church Milton - ECPv6.15.15//NONSGML v1.0//EN
CALSCALE:GREGORIAN
METHOD:PUBLISH
X-ORIGINAL-URL:https://www.knoxmilton.com
X-WR-CALDESC:Events for Knox Presbyterian Church Milton
REFRESH-INTERVAL;VALUE=DURATION:PT1H
X-Robots-Tag:noindex
X-PUBLISHED-TTL:PT1H
BEGIN:VTIMEZONE
TZID:America/Toronto
BEGIN:DAYLIGHT
TZOFFSETFROM:-0500
TZOFFSETTO:-0400
TZNAME:EDT
DTSTART:20230312T070000
END:DAYLIGHT
BEGIN:STANDARD
TZOFFSETFROM:-0400
TZOFFSETTO:-0500
TZNAME:EST
DTSTART:20231105T060000
END:STANDARD
BEGIN:DAYLIGHT
TZOFFSETFROM:-0500
TZOFFSETTO:-0400
TZNAME:EDT
DTSTART:20240310T070000
END:DAYLIGHT
BEGIN:STANDARD
TZOFFSETFROM:-0400
TZOFFSETTO:-0500
TZNAME:EST
DTSTART:20241103T060000
END:STANDARD
BEGIN:DAYLIGHT
TZOFFSETFROM:-0500
TZOFFSETTO:-0400
TZNAME:EDT
DTSTART:20250309T070000
END:DAYLIGHT
BEGIN:STANDARD
TZOFFSETFROM:-0400
TZOFFSETTO:-0500
TZNAME:EST
DTSTART:20251102T060000
END:STANDARD
END:VTIMEZONE
BEGIN:VEVENT
DTSTART;TZID=America/Toronto:20241116T130000
DTEND;TZID=America/Toronto:20241116T150000
DTSTAMP:20260420T105636
CREATED:20240828T173738Z
LAST-MODIFIED:20241112T211951Z
UID:5244-1731762000-1731769200@www.knoxmilton.com
SUMMARY:Harvest Tea
DESCRIPTION:Saturday\, November 16\, 2024 @ 1-3 pm \nJoin us for an afternoon tea of finger sandwiches and tea. Afterwards\, enjoy an informative talk by local historian\, John McDonald\, about entertainment stories of  Milton. Did you know that:\n• Milton was a favoured stop between Windsor and Toronto?\n• at dances\, a gentleman paid for himself and one lady friend and the second lady friend got in for free?\n \nGuest Speaker\nJohn McDonald has researched the history of the Halton area since 1970\, an interest which started when he began inquiring into the Limehouse and Dolly Varden areas where he spent his youth as the eldest of nine children. A founding member of the Esquesing Historical Society and former member of Halton Hills and Halton Region Councils\, John takes a keen interest in the community and has helped to awaken a new interest in this area’s history.\n \nDetails:\n\nSaturday\, November 16\, 2024\n1 pm – 3 pm\, includes tea\, sandwiches and historical talk by John McDonald\nVenue: Knox Church\, 170 Main St. E.\, Milton\, ON L9T 1N8\nAdmission: Adults: $20 and Children: $10\n\nGet your tickets:\nWe have a limited number of tickets remaining. Please contact Knox Presbyterian Church to purchase.
URL:https://www.knoxmilton.com/event/harvest-tea/
LOCATION:Knox Presbyterian Church\, 170 Main St. E.\, Milton\, ON\, L9T 1N8\, Canada
ATTACH;FMTTYPE=image/jpeg:/wp-content/uploads/Autumn-Tea.jpg
END:VEVENT
END:VCALENDAR