BEGIN:VCALENDAR
VERSION:2.0
PRODID:-//Knox Presbyterian Church Milton - ECPv6.15.15//NONSGML v1.0//EN
CALSCALE:GREGORIAN
METHOD:PUBLISH
X-WR-CALNAME:Knox Presbyterian Church Milton
X-ORIGINAL-URL:https://www.knoxmilton.com
X-WR-CALDESC:Events for Knox Presbyterian Church Milton
REFRESH-INTERVAL;VALUE=DURATION:PT1H
X-Robots-Tag:noindex
X-PUBLISHED-TTL:PT1H
BEGIN:VTIMEZONE
TZID:America/Toronto
BEGIN:DAYLIGHT
TZOFFSETFROM:-0500
TZOFFSETTO:-0400
TZNAME:EDT
DTSTART:20230312T070000
END:DAYLIGHT
BEGIN:STANDARD
TZOFFSETFROM:-0400
TZOFFSETTO:-0500
TZNAME:EST
DTSTART:20231105T060000
END:STANDARD
BEGIN:DAYLIGHT
TZOFFSETFROM:-0500
TZOFFSETTO:-0400
TZNAME:EDT
DTSTART:20240310T070000
END:DAYLIGHT
BEGIN:STANDARD
TZOFFSETFROM:-0400
TZOFFSETTO:-0500
TZNAME:EST
DTSTART:20241103T060000
END:STANDARD
BEGIN:DAYLIGHT
TZOFFSETFROM:-0500
TZOFFSETTO:-0400
TZNAME:EDT
DTSTART:20250309T070000
END:DAYLIGHT
BEGIN:STANDARD
TZOFFSETFROM:-0400
TZOFFSETTO:-0500
TZNAME:EST
DTSTART:20251102T060000
END:STANDARD
END:VTIMEZONE
BEGIN:VEVENT
DTSTART;TZID=America/Toronto:20241124T150000
DTEND;TZID=America/Toronto:20241124T170000
DTSTAMP:20260420T105510
CREATED:20240723T232856Z
LAST-MODIFIED:20240919T170322Z
UID:5227-1732460400-1732467600@www.knoxmilton.com
SUMMARY:Scott Woods presents "Yee Haw"
DESCRIPTION:Sunday\, November 24\, 2024\, 3 – 5 pm \nRenowned Canadian Fiddle Champion Scott Woods and his multi-talented band present… YEE HAW!\n“Yee Haw” is a fun-filled\, 2-hour live show\, that is reminiscent of the iconic television show “Hee Haw”. It will feature lots of Canadian Old Time Fiddle tunes\, favourite Country classics\, instrumentals\, sweet harmonies\, sensational step-dancing\, smooth vocals\, lots of family humour\, inspirational stories\, and trick fiddling. \nCanadian Open and Grand Masters Fiddle Champion\, Scott Woods and his multi-talented band are sure to put a smile on your face and a song in your heart\, with their lively entertainment. Scott will be doing his trick-fiddling routine – playing behind his back\, walking on a barrel while playing\, and of course his world-famous front running somersault. \nYou will see Scott’s sister\, Kendra Woods Norris\, a champion fiddler in her own right\, as well as the Canadian Open Step Dancing Champion\, 20-year old Leo “Spaghetti Legs” Stock. Between them\, they play several instruments (fiddle\, accordion\, piano\, drums)\, they sing and have some silly costumes/characters as well. \nAccompanying them on guitar is “the Telecaster Master”\, Steve Piticco. He is an amazing guitarist\, and will show his talents throughout the show. Kurk Bernard will be part of the band\, playing bass guitar and singing country favourites. \nDon’t miss the “Flippin’ Fiddler” and his up-beat\, family-friendly show! \n  \nDetails:\n\nSunday\, Novebmer 24\, 2024\n3 pm – 5 pm\nDoors will open approximately one hour prior to showtime.  Seating is first come\, first served.\nVenue: Knox Presbyterian Church\, 170 Main St. E.\, Milton\, ON L9T 1N8\nGeneral Admission: $45 (tax included)\n\nGet your tickets:\n\nin-person at Knox Presbyterian Church\nin-person at Fitzgerald Insurance\nonline from the Scott Woods Band Office
URL:https://www.knoxmilton.com/event/scott-woods-presents-yee-haw-2024/
LOCATION:Knox Presbyterian Church\, 170 Main St. E.\, Milton\, ON\, L9T 1N8\, Canada
ATTACH;FMTTYPE=image/png:/wp-content/uploads/TSWB_YEEHAWBanner-02-scaled-1.png
END:VEVENT
END:VCALENDAR