BEGIN:VCALENDAR
VERSION:2.0
PRODID:-//Knox Presbyterian Church Milton - ECPv6.15.15//NONSGML v1.0//EN
CALSCALE:GREGORIAN
METHOD:PUBLISH
X-ORIGINAL-URL:https://www.knoxmilton.com
X-WR-CALDESC:Events for Knox Presbyterian Church Milton
REFRESH-INTERVAL;VALUE=DURATION:PT1H
X-Robots-Tag:noindex
X-PUBLISHED-TTL:PT1H
BEGIN:VTIMEZONE
TZID:America/Toronto
BEGIN:DAYLIGHT
TZOFFSETFROM:-0500
TZOFFSETTO:-0400
TZNAME:EDT
DTSTART:20240310T070000
END:DAYLIGHT
BEGIN:STANDARD
TZOFFSETFROM:-0400
TZOFFSETTO:-0500
TZNAME:EST
DTSTART:20241103T060000
END:STANDARD
BEGIN:DAYLIGHT
TZOFFSETFROM:-0500
TZOFFSETTO:-0400
TZNAME:EDT
DTSTART:20250309T070000
END:DAYLIGHT
BEGIN:STANDARD
TZOFFSETFROM:-0400
TZOFFSETTO:-0500
TZNAME:EST
DTSTART:20251102T060000
END:STANDARD
BEGIN:DAYLIGHT
TZOFFSETFROM:-0500
TZOFFSETTO:-0400
TZNAME:EDT
DTSTART:20260308T070000
END:DAYLIGHT
BEGIN:STANDARD
TZOFFSETFROM:-0400
TZOFFSETTO:-0500
TZNAME:EST
DTSTART:20261101T060000
END:STANDARD
END:VTIMEZONE
BEGIN:VEVENT
DTSTART;TZID=America/Toronto:20250719T080000
DTEND;TZID=America/Toronto:20250719T120000
DTSTAMP:20260419T201313
CREATED:20250303T205147Z
LAST-MODIFIED:20250303T210335Z
UID:5359-1752912000-1752926400@www.knoxmilton.com
SUMMARY:Book and Puzzle Sale
DESCRIPTION:Saturday\, July 19\, 2025\n8 am – 12 pm\non Main Street at the Milton Farmers Market \nStock up on books and puzzles for the summer!\nLooking for books and puzzles for the quiet summer months? Come have a look at the books and puzzles we have for sale at the front of the church\, on Main Street.
URL:https://www.knoxmilton.com/event/book-and-puzzle-sale-july-2025/
LOCATION:Knox Presbyterian Church\, 170 Main St. E.\, Milton\, ON\, L9T 1N8\, Canada
ATTACH;FMTTYPE=image/jpeg:/wp-content/uploads/2025-07-Book-Sale-header.jpg
END:VEVENT
END:VCALENDAR