BEGIN:VCALENDAR
VERSION:2.0
PRODID:-//Knox Presbyterian Church Milton - ECPv6.15.15//NONSGML v1.0//EN
CALSCALE:GREGORIAN
METHOD:PUBLISH
X-WR-CALNAME:Knox Presbyterian Church Milton
X-ORIGINAL-URL:https://www.knoxmilton.com
X-WR-CALDESC:Events for Knox Presbyterian Church Milton
REFRESH-INTERVAL;VALUE=DURATION:PT1H
X-Robots-Tag:noindex
X-PUBLISHED-TTL:PT1H
BEGIN:VTIMEZONE
TZID:America/Toronto
BEGIN:DAYLIGHT
TZOFFSETFROM:-0500
TZOFFSETTO:-0400
TZNAME:EDT
DTSTART:20240310T070000
END:DAYLIGHT
BEGIN:STANDARD
TZOFFSETFROM:-0400
TZOFFSETTO:-0500
TZNAME:EST
DTSTART:20241103T060000
END:STANDARD
BEGIN:DAYLIGHT
TZOFFSETFROM:-0500
TZOFFSETTO:-0400
TZNAME:EDT
DTSTART:20250309T070000
END:DAYLIGHT
BEGIN:STANDARD
TZOFFSETFROM:-0400
TZOFFSETTO:-0500
TZNAME:EST
DTSTART:20251102T060000
END:STANDARD
BEGIN:DAYLIGHT
TZOFFSETFROM:-0500
TZOFFSETTO:-0400
TZNAME:EDT
DTSTART:20260308T070000
END:DAYLIGHT
BEGIN:STANDARD
TZOFFSETFROM:-0400
TZOFFSETTO:-0500
TZNAME:EST
DTSTART:20261101T060000
END:STANDARD
END:VTIMEZONE
BEGIN:VEVENT
DTSTART;TZID=America/Toronto:20251122T090000
DTEND;TZID=America/Toronto:20251122T140000
DTSTAMP:20260419T132241
CREATED:20250524T205741Z
LAST-MODIFIED:20250524T205741Z
UID:5416-1763802000-1763820000@www.knoxmilton.com
SUMMARY:Christmas Treasures Bazaar
DESCRIPTION:Saturday\, November 22\, 2025\n9 am – 2 pm \nOur community Christmas Treasures Bazaar is just around the corner\, offering unique\, handmade holiday gifts\, beautiful decorations\, and a raffle. \nA list of vendors will be available soon.
URL:https://www.knoxmilton.com/event/christmas-treasures-bazaar-2025/
LOCATION:Knox Presbyterian Church\, 170 Main St. E.\, Milton\, ON\, L9T 1N8\, Canada
ATTACH;FMTTYPE=image/jpeg:/wp-content/uploads/Knox-Bazaar-2025-header.jpg
END:VEVENT
END:VCALENDAR