BEGIN:VCALENDAR
VERSION:2.0
PRODID:-//Knox Presbyterian Church Milton - ECPv6.15.15//NONSGML v1.0//EN
CALSCALE:GREGORIAN
METHOD:PUBLISH
X-WR-CALNAME:Knox Presbyterian Church Milton
X-ORIGINAL-URL:https://www.knoxmilton.com
X-WR-CALDESC:Events for Knox Presbyterian Church Milton
REFRESH-INTERVAL;VALUE=DURATION:PT1H
X-Robots-Tag:noindex
X-PUBLISHED-TTL:PT1H
BEGIN:VTIMEZONE
TZID:America/Toronto
BEGIN:DAYLIGHT
TZOFFSETFROM:-0500
TZOFFSETTO:-0400
TZNAME:EDT
DTSTART:20230312T070000
END:DAYLIGHT
BEGIN:STANDARD
TZOFFSETFROM:-0400
TZOFFSETTO:-0500
TZNAME:EST
DTSTART:20231105T060000
END:STANDARD
BEGIN:DAYLIGHT
TZOFFSETFROM:-0500
TZOFFSETTO:-0400
TZNAME:EDT
DTSTART:20240310T070000
END:DAYLIGHT
BEGIN:STANDARD
TZOFFSETFROM:-0400
TZOFFSETTO:-0500
TZNAME:EST
DTSTART:20241103T060000
END:STANDARD
BEGIN:DAYLIGHT
TZOFFSETFROM:-0500
TZOFFSETTO:-0400
TZNAME:EDT
DTSTART:20250309T070000
END:DAYLIGHT
BEGIN:STANDARD
TZOFFSETFROM:-0400
TZOFFSETTO:-0500
TZNAME:EST
DTSTART:20251102T060000
END:STANDARD
END:VTIMEZONE
BEGIN:VEVENT
DTSTART;TZID=America/Toronto:20241215T140000
DTEND;TZID=America/Toronto:20241215T160000
DTSTAMP:20260420T055954
CREATED:20241126T012742Z
LAST-MODIFIED:20241126T013219Z
UID:5310-1734271200-1734278400@www.knoxmilton.com
SUMMARY:The Sound of Christmas with The Vivo String Quartet
DESCRIPTION:Sunday\, Dec. 15\, 2024 @ 2 pm\nCelebrate the season with The Sound of Christmas by the Vivo String Quartet: June-Kyo Kim (violin)\, Helena Choi (violin)\, Jenny Moore (viola) and Tin Tam Lau (cello). \nJoin us for a cozy Sunday afternoon filled with the warmth of Christmas music\, featuring the Vivo Quartet! Immerse yourself in festive vibes as we perform beloved traditional and family Christmas classics. \nDetails:\n\nSunday\, December 15\, 2024\n2:00 pm\nVenue: Knox Church\, 170 Main St. E.\, Milton\, ON L9T 1N8\nCost: Pay as you can to support these students.
URL:https://www.knoxmilton.com/event/vivo-quartet-2024-12/
LOCATION:Knox Presbyterian Church\, 170 Main St. E.\, Milton\, ON\, L9T 1N8\, Canada
ATTACH;FMTTYPE=image/jpeg:/wp-content/uploads/Christmas-Vivo-Quartet-2024.jpg
END:VEVENT
END:VCALENDAR