BEGIN:VCALENDAR
VERSION:2.0
PRODID:-//Knox Presbyterian Church Milton - ECPv6.15.15//NONSGML v1.0//EN
CALSCALE:GREGORIAN
METHOD:PUBLISH
X-ORIGINAL-URL:https://www.knoxmilton.com
X-WR-CALDESC:Events for Knox Presbyterian Church Milton
REFRESH-INTERVAL;VALUE=DURATION:PT1H
X-Robots-Tag:noindex
X-PUBLISHED-TTL:PT1H
BEGIN:VTIMEZONE
TZID:America/Toronto
BEGIN:DAYLIGHT
TZOFFSETFROM:-0500
TZOFFSETTO:-0400
TZNAME:EDT
DTSTART:20240310T070000
END:DAYLIGHT
BEGIN:STANDARD
TZOFFSETFROM:-0400
TZOFFSETTO:-0500
TZNAME:EST
DTSTART:20241103T060000
END:STANDARD
BEGIN:DAYLIGHT
TZOFFSETFROM:-0500
TZOFFSETTO:-0400
TZNAME:EDT
DTSTART:20250309T070000
END:DAYLIGHT
BEGIN:STANDARD
TZOFFSETFROM:-0400
TZOFFSETTO:-0500
TZNAME:EST
DTSTART:20251102T060000
END:STANDARD
BEGIN:DAYLIGHT
TZOFFSETFROM:-0500
TZOFFSETTO:-0400
TZNAME:EDT
DTSTART:20260308T070000
END:DAYLIGHT
BEGIN:STANDARD
TZOFFSETFROM:-0400
TZOFFSETTO:-0500
TZNAME:EST
DTSTART:20261101T060000
END:STANDARD
END:VTIMEZONE
BEGIN:VEVENT
DTSTART;TZID=America/Toronto:20250907T120000
DTEND;TZID=America/Toronto:20250907T120000
DTSTAMP:20260419T150257
CREATED:20250814T122903Z
LAST-MODIFIED:20250814T123043Z
UID:5426-1757246400-1757246400@www.knoxmilton.com
SUMMARY:Fall Mums
DESCRIPTION:Lovely and full large pots of various colours are available for pre-order!\nLast day to order is Sunday\, September 7 @ 12 pm\, noon.\nPick up is at the church on: \n\nThursday\, September 11\, 5-7 pm\nFriday\, September 12\, 9:30 – 11:30 am\n\nClick here to order now
URL:https://www.knoxmilton.com/event/fall-mums-2025/
LOCATION:Knox Presbyterian Church\, 170 Main St. E.\, Milton\, ON\, L9T 1N8\, Canada
ATTACH;FMTTYPE=image/jpeg:/wp-content/uploads/Picture1.jpg
END:VEVENT
BEGIN:VEVENT
DTSTART;TZID=America/Toronto:20250930T120000
DTEND;TZID=America/Toronto:20250930T140000
DTSTAMP:20260419T150257
CREATED:20250912T152045Z
LAST-MODIFIED:20250912T162443Z
UID:5446-1759233600-1759240800@www.knoxmilton.com
SUMMARY:Tech Talk
DESCRIPTION:This eye-opening session is designed to give you the confidence to identify a scam before it’s too late. We’ll show you the most common tricks used by scammers today\, from suspicious phone calls to fake websites and urgent-looking emails. You’ll learn simple\, practical steps to protect your personal information and financial accounts. Join us to get the tools and knowledge you need to stay safe online and gain peace of mind. \nWith nearly two decades of experience\, our session leader\, Chris Bint\, the Founder and Chief Education Officer at Tech Coaches\, radiates passion for digital literacy\, AI awareness\, and technology education. \nWe have limited seating so please register. \nDetails:\n\nTuesday\, September 30\n12 pm – 2 pm\, includes light luncheon\nVenue: Knox Church\, 170 Main St. E.\, Milton\, ON L9T 1N8\nAdmission: free\, but we kindly ask that you pre-register for planning purposes.\n\nClick here to register
URL:https://www.knoxmilton.com/event/tech-talk/
LOCATION:Knox Presbyterian Church\, 170 Main St. E.\, Milton\, ON\, L9T 1N8\, Canada
ATTACH;FMTTYPE=image/jpeg:/wp-content/uploads/Flyer-for-Sept-30-Telephone-scams_1.jpg
END:VEVENT
END:VCALENDAR